BEGIN:VCALENDAR
VERSION:2.0
PRODID:-//StreamRadar//Match Calendar//EN
CALSCALE:GREGORIAN
METHOD:PUBLISH
X-WR-CALNAME:Atlético Madrid vs Manchester United
X-WR-TIMEZONE:America/New_York
BEGIN:VEVENT
UID:match-5618100@streamradar.soccer
SUMMARY:Atlético Madrid vs Manchester United
DTSTAMP:20260423T124637Z
DTSTART;TZID=America/New_York:20260801T090000
DTEND;TZID=America/New_York:20260801T110000
LOCATION:Strawberry Arena
DESCRIPTION:Dónde ver Atlético Madrid vs Manchester United en Partido Ami
 stoso Internacional. Transmisión en vivo y programación de TV.\nhttps://s
 treamradar.soccer/es/match/5618100/atletico-madrid-vs-manchester-united/
URL;VALUE=URI:https://streamradar.soccer/es/match/5618100/atletico-madrid-v
 s-manchester-united/
STATUS:CONFIRMED
END:VEVENT
END:VCALENDAR
