BEGIN:VCALENDAR
VERSION:2.0
PRODID:-//StreamRadar//Match Calendar//EN
CALSCALE:GREGORIAN
METHOD:PUBLISH
X-WR-CALNAME:RSB Berkane vs Kawkab Marrakech
X-WR-TIMEZONE:America/New_York
BEGIN:VEVENT
UID:match-5618094@streamradar.soccer
SUMMARY:RSB Berkane vs Kawkab Marrakech
DTSTAMP:20260421T112304Z
DTSTART;TZID=America/New_York:20260430T150000
DTEND;TZID=America/New_York:20260430T170000
LOCATION:Stade Municipal de Berkane
DESCRIPTION:Dónde ver RSB Berkane vs Kawkab Marrakech en Marruecos - Botol
 a Pro. Transmisión en vivo y programación de TV.\nhttps://streamradar.soc
 cer/es/match/5618094/rsb-berkane-vs-kawkab-marrakech/
URL;VALUE=URI:https://streamradar.soccer/es/match/5618094/rsb-berkane-vs-ka
 wkab-marrakech/
STATUS:CONFIRMED
END:VEVENT
END:VCALENDAR
