BEGIN:VCALENDAR
VERSION:2.0
PRODID:-//StreamRadar//Match Calendar//EN
CALSCALE:GREGORIAN
METHOD:PUBLISH
X-WR-CALNAME:Wydad Casablanca vs Yacoub El Mansour
X-WR-TIMEZONE:America/New_York
BEGIN:VEVENT
UID:match-5618089@streamradar.soccer
SUMMARY:Wydad Casablanca vs Yacoub El Mansour
DTSTAMP:20260421T121222Z
DTSTART;TZID=America/New_York:20260429T130000
DTEND;TZID=America/New_York:20260429T150000
LOCATION:Stade Mohamed V
DESCRIPTION:Dónde ver Wydad Casablanca vs Yacoub El Mansour en Marruecos -
  Botola Pro. Transmisión en vivo y programación de TV.\nhttps://streamrad
 ar.soccer/es/match/5618089/wydad-casablanca-vs-yacoub-el-mansour/
URL;VALUE=URI:https://streamradar.soccer/es/match/5618089/wydad-casablanca-
 vs-yacoub-el-mansour/
STATUS:CONFIRMED
END:VEVENT
END:VCALENDAR
