BEGIN:VCALENDAR
VERSION:2.0
PRODID:-//StreamRadar//Match Calendar//EN
CALSCALE:GREGORIAN
METHOD:PUBLISH
X-WR-CALNAME:Brown de Adrogué vs Talleres Remedios
X-WR-TIMEZONE:America/New_York
BEGIN:VEVENT
UID:match-5618071@streamradar.soccer
SUMMARY:Brown de Adrogué vs Talleres Remedios
DTSTAMP:20260421T102123Z
DTSTART;TZID=America/New_York:20260527T160000
DTEND;TZID=America/New_York:20260527T180000
LOCATION:Estadio Lorenzo Arandilla
DESCRIPTION:Dónde ver Brown De Adrogué vs Talleres Remedios en Argentina 
 - Primera B Metropolitana. Transmisión en vivo y programación de TV.\nhtt
 ps://streamradar.soccer/es/match/5618071/brown-de-adrogue-vs-talleres-remed
 ios/
URL;VALUE=URI:https://streamradar.soccer/es/match/5618071/brown-de-adrogue-
 vs-talleres-remedios/
STATUS:CONFIRMED
END:VEVENT
END:VCALENDAR
