BEGIN:VCALENDAR
VERSION:2.0
PRODID:-//StreamRadar//Match Calendar//EN
CALSCALE:GREGORIAN
METHOD:PUBLISH
X-WR-CALNAME:Sint-Truiden vs Mechelen
X-WR-TIMEZONE:America/New_York
BEGIN:VEVENT
UID:match-5618058@streamradar.soccer
SUMMARY:Sint-Truiden vs Mechelen
DTSTAMP:20260421T112348Z
DTSTART;TZID=America/New_York:20260524T123000
DTEND;TZID=America/New_York:20260524T143000
LOCATION:Daio Wasabi Stayen
DESCRIPTION:Dónde ver Sint-Truiden vs Mechelen en Bélgica - Pro League. T
 ransmisión en vivo y programación de TV.\nhttps://streamradar.soccer/es/m
 atch/5618058/sint-truiden-vs-mechelen/
URL;VALUE=URI:https://streamradar.soccer/es/match/5618058/sint-truiden-vs-m
 echelen/
STATUS:CONFIRMED
END:VEVENT
END:VCALENDAR
