BEGIN:VCALENDAR
VERSION:2.0
PRODID:-//StreamRadar//Match Calendar//EN
CALSCALE:GREGORIAN
METHOD:PUBLISH
X-WR-CALNAME:Deportivo Maipú vs Gimnasia y Tiro
X-WR-TIMEZONE:America/New_York
BEGIN:VEVENT
UID:match-5618045@streamradar.soccer
SUMMARY:Deportivo Maipú vs Gimnasia y Tiro
DTSTAMP:20260421T120607Z
DTSTART;TZID=America/New_York:20260620T160000
DTEND;TZID=America/New_York:20260620T180000
LOCATION:Stadion Omar Higinio Sperdutti
DESCRIPTION:Dónde ver Deportivo Maipú vs Gimnasia y Tiro en Argentina - P
 rimera Nacional. Transmisión en vivo y programación de TV.\nhttps://strea
 mradar.soccer/es/match/5618045/deportivo-maipu-vs-gimnasia-y-tiro/
URL;VALUE=URI:https://streamradar.soccer/es/match/5618045/deportivo-maipu-v
 s-gimnasia-y-tiro/
STATUS:CONFIRMED
END:VEVENT
END:VCALENDAR
