BEGIN:VCALENDAR
VERSION:2.0
PRODID:-//StreamRadar//Match Calendar//EN
CALSCALE:GREGORIAN
METHOD:PUBLISH
X-WR-CALNAME:Almirante Brown vs Club Atlético Mitre
X-WR-TIMEZONE:America/New_York
BEGIN:VEVENT
UID:match-5618036@streamradar.soccer
SUMMARY:Almirante Brown vs Club Atlético Mitre
DTSTAMP:20260421T133510Z
DTSTART;TZID=America/New_York:20260620T160000
DTEND;TZID=America/New_York:20260620T180000
LOCATION:Estadio Fragata Presidente Sarmiento
DESCRIPTION:Dónde ver Almirante Brown vs Club Atlético Mitre en Argentina
  - Primera Nacional. Transmisión en vivo y programación de TV.\nhttps://s
 treamradar.soccer/es/match/5618036/almirante-brown-vs-club-atletico-mitre/
URL;VALUE=URI:https://streamradar.soccer/es/match/5618036/almirante-brown-v
 s-club-atletico-mitre/
STATUS:CONFIRMED
END:VEVENT
END:VCALENDAR
