BEGIN:VCALENDAR
VERSION:2.0
PRODID:-//StreamRadar//Match Calendar//EN
CALSCALE:GREGORIAN
METHOD:PUBLISH
X-WR-CALNAME:Jose Bonifacio EC vs America Sp
X-WR-TIMEZONE:America/New_York
BEGIN:VEVENT
UID:match-5617615@streamradar.soccer
SUMMARY:Jose Bonifacio EC vs America Sp
DTSTAMP:20260420T133821Z
DTSTART;TZID=America/New_York:20260517T140000
DTEND;TZID=America/New_York:20260517T160000
DESCRIPTION:Dónde ver Jose Bonifacio EC vs America Sp en Brasil - Campeona
 to Paulista Serie B. Transmisión en vivo y programación de TV.\nhttps://s
 treamradar.soccer/es/match/5617615/jose-bonifacio-ec-vs-america-sp/
URL;VALUE=URI:https://streamradar.soccer/es/match/5617615/jose-bonifacio-ec
 -vs-america-sp/
STATUS:CONFIRMED
END:VEVENT
END:VCALENDAR
