BEGIN:VCALENDAR
VERSION:2.0
PRODID:-//StreamRadar//Match Calendar//EN
CALSCALE:GREGORIAN
METHOD:PUBLISH
X-WR-CALNAME:São Carlos vs Matonense
X-WR-TIMEZONE:America/New_York
BEGIN:VEVENT
UID:match-5617585@streamradar.soccer
SUMMARY:São Carlos vs Matonense
DTSTAMP:20260420T164854Z
DTSTART;TZID=America/New_York:20260502T140000
DTEND;TZID=America/New_York:20260502T160000
DESCRIPTION:Dónde ver São Carlos vs Matonense en Brasil - Campeonato Paul
 ista Serie B. Transmisión en vivo y programación de TV.\nhttps://streamra
 dar.soccer/es/match/5617585/sao-carlos-vs-matonense/
URL;VALUE=URI:https://streamradar.soccer/es/match/5617585/sao-carlos-vs-mat
 onense/
STATUS:CONFIRMED
END:VEVENT
END:VCALENDAR
