BEGIN:VCALENDAR
VERSION:2.0
PRODID:-//StreamRadar//Match Calendar//EN
CALSCALE:GREGORIAN
METHOD:PUBLISH
X-WR-CALNAME:Ethiopian Insurance vs Welayta Dicha
X-WR-TIMEZONE:America/New_York
BEGIN:VEVENT
UID:match-5617501@streamradar.soccer
SUMMARY:Ethiopian Insurance vs Welayta Dicha
DTSTAMP:20260421T080716Z
DTSTART;TZID=America/New_York:20260519T060000
DTEND;TZID=America/New_York:20260519T080000
DESCRIPTION:Dónde ver Ethiopian Insurance vs Welayta Dicha en Etiopía - P
 remier League. Transmisión en vivo y programación de TV.\nhttps://streamr
 adar.soccer/es/match/5617501/ethiopian-insurance-vs-welayta-dicha/
URL;VALUE=URI:https://streamradar.soccer/es/match/5617501/ethiopian-insuran
 ce-vs-welayta-dicha/
STATUS:CONFIRMED
END:VEVENT
END:VCALENDAR
