BEGIN:VCALENDAR
VERSION:2.0
PRODID:-//StreamRadar//Match Calendar//EN
CALSCALE:GREGORIAN
METHOD:PUBLISH
X-WR-CALNAME:Zacatepec vs Real Apodaca
X-WR-TIMEZONE:America/New_York
BEGIN:VEVENT
UID:match-5617498@streamradar.soccer
SUMMARY:Zacatepec vs Real Apodaca
DTSTAMP:20260421T062055Z
DTSTART;TZID=America/New_York:20260422T160000
DTEND;TZID=America/New_York:20260422T180000
LOCATION:Estadio Agustín Coruco Díaz (Zacatepec)
DESCRIPTION:Dónde ver Zacatepec vs Real Apodaca en México - Liga MX. Tran
 smisión en vivo y programación de TV.\nhttps://streamradar.soccer/es/matc
 h/5617498/zacatepec-vs-real-apodaca/
URL;VALUE=URI:https://streamradar.soccer/es/match/5617498/zacatepec-vs-real
 -apodaca/
STATUS:CONFIRMED
END:VEVENT
END:VCALENDAR
