BEGIN:VCALENDAR
VERSION:2.0
PRODID:-//StreamRadar//Match Calendar//EN
CALSCALE:GREGORIAN
METHOD:PUBLISH
X-WR-CALNAME:Juazeirense vs CSA
X-WR-TIMEZONE:America/New_York
BEGIN:VEVENT
UID:match-5617480@streamradar.soccer
SUMMARY:Juazeirense vs CSA
DTSTAMP:20260421T062318Z
DTSTART;TZID=America/New_York:20260509T160000
DTEND;TZID=America/New_York:20260509T180000
DESCRIPTION:Dónde ver Juazeirense vs CSA en Brasil - Serie D. Transmisión
  en vivo y programación de TV.\nhttps://streamradar.soccer/es/match/561748
 0/juazeirense-vs-csa/
URL;VALUE=URI:https://streamradar.soccer/es/match/5617480/juazeirense-vs-cs
 a/
STATUS:CONFIRMED
END:VEVENT
END:VCALENDAR
