BEGIN:VCALENDAR
VERSION:2.0
PRODID:-//StreamRadar//Match Calendar//EN
CALSCALE:GREGORIAN
METHOD:PUBLISH
X-WR-CALNAME:Paraguay U17 vs Colombia U17
X-WR-TIMEZONE:America/New_York
BEGIN:VEVENT
UID:match-5617385@streamradar.soccer
SUMMARY:Paraguay U17 vs Colombia U17
DTSTAMP:20260420T061211Z
DTSTART;TZID=America/New_York:20260503T190000
DTEND;TZID=America/New_York:20260503T210000
DESCRIPTION:Dónde ver Paraguay Sub-17 vs Colombia Sub-17 en Sudamericano S
 ub-17 Femenino. Transmisión en vivo y programación de TV.\nhttps://stream
 radar.soccer/es/match/5617385/paraguay-u17-vs-colombia-u17/
URL;VALUE=URI:https://streamradar.soccer/es/match/5617385/paraguay-u17-vs-c
 olombia-u17/
STATUS:CONFIRMED
END:VEVENT
END:VCALENDAR
