BEGIN:VCALENDAR
VERSION:2.0
PRODID:-//StreamRadar//Match Calendar//EN
CALSCALE:GREGORIAN
METHOD:PUBLISH
X-WR-CALNAME:Brazil U17 vs Venezuela U17
X-WR-TIMEZONE:America/New_York
BEGIN:VEVENT
UID:match-5617369@streamradar.soccer
SUMMARY:Brazil U17 vs Venezuela U17
DTSTAMP:20260420T061308Z
DTSTART;TZID=America/New_York:20260425T190000
DTEND;TZID=America/New_York:20260425T210000
DESCRIPTION:Dónde ver Brasil Sub-17 vs Venezuela Sub-17 en Sudamericano Su
 b-17 Femenino. Transmisión en vivo y programación de TV.\nhttps://streamr
 adar.soccer/es/match/5617369/brazil-u17-vs-venezuela-u17/
URL;VALUE=URI:https://streamradar.soccer/es/match/5617369/brazil-u17-vs-ven
 ezuela-u17/
STATUS:CONFIRMED
END:VEVENT
END:VCALENDAR
