BEGIN:VCALENDAR
VERSION:2.0
PRODID:-//StreamRadar//Match Calendar//EN
CALSCALE:GREGORIAN
METHOD:PUBLISH
X-WR-CALNAME:Weymouth Wales vs UWI Blackbirds
X-WR-TIMEZONE:America/New_York
BEGIN:VEVENT
UID:match-5617026@streamradar.soccer
SUMMARY:Weymouth Wales vs UWI Blackbirds
DTSTAMP:20260421T080846Z
DTSTART;TZID=America/New_York:20260517T200000
DTEND;TZID=America/New_York:20260517T220000
DESCRIPTION:Dónde ver Weymouth Wales vs UWI Blackbirds en Barbados Premier
  League. Transmisión en vivo y programación de TV.\nhttps://streamradar.s
 occer/es/match/5617026/weymouth-wales-vs-uwi-blackbirds/
URL;VALUE=URI:https://streamradar.soccer/es/match/5617026/weymouth-wales-vs
 -uwi-blackbirds/
STATUS:CONFIRMED
END:VEVENT
END:VCALENDAR
