BEGIN:VCALENDAR
VERSION:2.0
PRODID:-//StreamRadar//Match Calendar//EN
CALSCALE:GREGORIAN
METHOD:PUBLISH
X-WR-CALNAME:Charlottesville Blues vs Annapolis Blues
X-WR-TIMEZONE:America/New_York
BEGIN:VEVENT
UID:match-5617024@streamradar.soccer
SUMMARY:Charlottesville Blues vs Annapolis Blues
DTSTAMP:20260421T063119Z
DTSTART;TZID=America/New_York:20260517T200000
DTEND;TZID=America/New_York:20260517T220000
DESCRIPTION:Dónde ver Charlottesville Blues vs Annapolis Blues en USL Leag
 ue Two. Transmisión en vivo y programación de TV.\nhttps://streamradar.so
 ccer/es/match/5617024/charlottesville-blues-vs-annapolis-blues/
URL;VALUE=URI:https://streamradar.soccer/es/match/5617024/charlottesville-b
 lues-vs-annapolis-blues/
STATUS:CONFIRMED
END:VEVENT
END:VCALENDAR
