BEGIN:VCALENDAR
VERSION:2.0
PRODID:-//StreamRadar//Match Calendar//EN
CALSCALE:GREGORIAN
METHOD:PUBLISH
X-WR-CALNAME:EBK vs HJS Akatemia
X-WR-TIMEZONE:America/New_York
BEGIN:VEVENT
UID:match-5616993@streamradar.soccer
SUMMARY:EBK vs HJS Akatemia
DTSTAMP:20260419T121857Z
DTSTART;TZID=America/New_York:20260517T100000
DTEND;TZID=America/New_York:20260517T120000
LOCATION:Keski-Espoon urheilukeskus
DESCRIPTION:Dónde ver EBK vs HJS Akatemia en Finlandia - Kakkonen. Transmi
 sión en vivo y programación de TV.\nhttps://streamradar.soccer/es/match/5
 616993/ebk-vs-hjs-akatemia/
URL;VALUE=URI:https://streamradar.soccer/es/match/5616993/ebk-vs-hjs-akatem
 ia/
STATUS:CONFIRMED
END:VEVENT
END:VCALENDAR
