BEGIN:VCALENDAR
VERSION:2.0
PRODID:-//StreamRadar//Match Calendar//EN
CALSCALE:GREGORIAN
METHOD:PUBLISH
X-WR-CALNAME:EPS vs MuSa
X-WR-TIMEZONE:America/New_York
BEGIN:VEVENT
UID:match-5616991@streamradar.soccer
SUMMARY:EPS vs MuSa
DTSTAMP:20260419T120026Z
DTSTART;TZID=America/New_York:20260516T100000
DTEND;TZID=America/New_York:20260516T120000
LOCATION:Espoonlahden urheilupuisto
DESCRIPTION:Dónde ver EPS vs MuSa en Finlandia - Kakkonen. Transmisión en
  vivo y programación de TV.\nhttps://streamradar.soccer/es/match/5616991/e
 ps-vs-musa/
URL;VALUE=URI:https://streamradar.soccer/es/match/5616991/eps-vs-musa/
STATUS:CONFIRMED
END:VEVENT
END:VCALENDAR
