BEGIN:VCALENDAR
VERSION:2.0
PRODID:-//StreamRadar//Match Calendar//EN
CALSCALE:GREGORIAN
METHOD:PUBLISH
X-WR-CALNAME:GrIFK vs Honka
X-WR-TIMEZONE:America/New_York
BEGIN:VEVENT
UID:match-5616990@streamradar.soccer
SUMMARY:GrIFK vs Honka
DTSTAMP:20260419T120640Z
DTSTART;TZID=America/New_York:20260516T090000
DTEND;TZID=America/New_York:20260516T110000
DESCRIPTION:Dónde ver GrIFK vs Honka en Finlandia - Kakkonen. Transmisión
  en vivo y programación de TV.\nhttps://streamradar.soccer/es/match/561699
 0/grifk-vs-honka/
URL;VALUE=URI:https://streamradar.soccer/es/match/5616990/grifk-vs-honka/
STATUS:CONFIRMED
END:VEVENT
END:VCALENDAR
