BEGIN:VCALENDAR
VERSION:2.0
PRODID:-//StreamRadar//Match Calendar//EN
CALSCALE:GREGORIAN
METHOD:PUBLISH
X-WR-CALNAME:PPJ vs PuiU Helsinki
X-WR-TIMEZONE:America/New_York
BEGIN:VEVENT
UID:match-5616958@streamradar.soccer
SUMMARY:PPJ vs PuiU Helsinki
DTSTAMP:20260419T122054Z
DTSTART;TZID=America/New_York:20260503T120000
DTEND;TZID=America/New_York:20260503T140000
DESCRIPTION:Dónde ver PPJ vs PuiU Helsinki en Finlandia - Kakkonen. Transm
 isión en vivo y programación de TV.\nhttps://streamradar.soccer/es/match/
 5616958/ppj-vs-puiu-helsinki/
URL;VALUE=URI:https://streamradar.soccer/es/match/5616958/ppj-vs-puiu-helsi
 nki/
STATUS:CONFIRMED
END:VEVENT
END:VCALENDAR
