BEGIN:VCALENDAR
VERSION:2.0
PRODID:-//StreamRadar//Match Calendar//EN
CALSCALE:GREGORIAN
METHOD:PUBLISH
X-WR-CALNAME:Ballkani vs Ferizaj
X-WR-TIMEZONE:America/New_York
BEGIN:VEVENT
UID:match-5616885@streamradar.soccer
SUMMARY:Ballkani vs Ferizaj
DTSTAMP:20260421T055513Z
DTSTART;TZID=America/New_York:20260425T090000
DTEND;TZID=America/New_York:20260425T110000
LOCATION:Stadiumi i qytetit Suharekë (Suharekë (Suva Reka))
DESCRIPTION:Dónde ver Ballkani vs Ferizaj en Kosovo - Superliga en Kosovo.
  Transmisión en vivo y programación de TV.\nhttps://streamradar.soccer/es
 /match/5616885/ballkani-vs-ferizaj/
URL;VALUE=URI:https://streamradar.soccer/es/match/5616885/ballkani-vs-feriz
 aj/
STATUS:CONFIRMED
END:VEVENT
END:VCALENDAR
