BEGIN:VCALENDAR
VERSION:2.0
PRODID:-//StreamRadar//Match Calendar//EN
CALSCALE:GREGORIAN
METHOD:PUBLISH
X-WR-CALNAME:Alashkert vs Gandzasar
X-WR-TIMEZONE:America/New_York
BEGIN:VEVENT
UID:match-5616877@streamradar.soccer
SUMMARY:Alashkert vs Gandzasar
DTSTAMP:20260421T062332Z
DTSTART;TZID=America/New_York:20260509T070000
DTEND;TZID=America/New_York:20260509T090000
LOCATION:Alashkert Stadium
DESCRIPTION:Dónde ver Alashkert vs Gandzasar en Liga Premier de Armenia. T
 ransmisión en vivo y programación de TV.\nhttps://streamradar.soccer/es/m
 atch/5616877/alashkert-vs-gandzasar/
URL;VALUE=URI:https://streamradar.soccer/es/match/5616877/alashkert-vs-gand
 zasar/
STATUS:CONFIRMED
END:VEVENT
END:VCALENDAR
