BEGIN:VCALENDAR
VERSION:2.0
PRODID:-//StreamRadar//Match Calendar//EN
CALSCALE:GREGORIAN
METHOD:PUBLISH
X-WR-CALNAME:NEC FC vs Buhimba
X-WR-TIMEZONE:America/New_York
BEGIN:VEVENT
UID:match-5616859@streamradar.soccer
SUMMARY:NEC FC vs Buhimba
DTSTAMP:20260421T080602Z
DTSTART;TZID=America/New_York:20260513T130000
DTEND;TZID=America/New_York:20260513T150000
LOCATION:MTN Omondi Stadium
DESCRIPTION:Dónde ver NEC FC vs Buhimba en Uganda - Premier League Uganda.
  Transmisión en vivo y programación de TV.\nhttps://streamradar.soccer/es
 /match/5616859/nec-fc-vs-buhimba/
URL;VALUE=URI:https://streamradar.soccer/es/match/5616859/nec-fc-vs-buhimba
 /
STATUS:CONFIRMED
END:VEVENT
END:VCALENDAR
