BEGIN:VCALENDAR
VERSION:2.0
PRODID:-//StreamRadar//Match Calendar//EN
CALSCALE:GREGORIAN
METHOD:PUBLISH
X-WR-CALNAME:Septemvri Sofia vs Montana
X-WR-TIMEZONE:America/New_York
BEGIN:VEVENT
UID:match-5616822@streamradar.soccer
SUMMARY:Septemvri Sofia vs Montana
DTSTAMP:20260419T122056Z
DTSTART;TZID=America/New_York:20260502T110000
DTEND;TZID=America/New_York:20260502T130000
DESCRIPTION:Dónde ver Septemvri Sofia vs Montana en Bulgaria - Parva Liga.
  Transmisión en vivo y programación de TV.\nhttps://streamradar.soccer/es
 /match/5616822/septemvri-sofia-vs-montana/
URL;VALUE=URI:https://streamradar.soccer/es/match/5616822/septemvri-sofia-v
 s-montana/
STATUS:CONFIRMED
END:VEVENT
END:VCALENDAR
