BEGIN:VCALENDAR
VERSION:2.0
PRODID:-//StreamRadar//Match Calendar//EN
CALSCALE:GREGORIAN
METHOD:PUBLISH
X-WR-CALNAME:Levski Sofia vs Ludogorets
X-WR-TIMEZONE:America/New_York
BEGIN:VEVENT
UID:match-5616810@streamradar.soccer
SUMMARY:Levski Sofia vs Ludogorets
DTSTAMP:20260419T121204Z
DTSTART;TZID=America/New_York:20260509T110000
DTEND;TZID=America/New_York:20260509T130000
LOCATION:Vivacom Arena Georgi Asparuhov
DESCRIPTION:Dónde ver Levski Sofia vs Ludogorets en Bulgaria - Parva Liga.
  Transmisión en vivo y programación de TV.\nhttps://streamradar.soccer/es
 /match/5616810/levski-sofia-vs-ludogorets/
URL;VALUE=URI:https://streamradar.soccer/es/match/5616810/levski-sofia-vs-l
 udogorets/
STATUS:CONFIRMED
END:VEVENT
END:VCALENDAR
