BEGIN:VCALENDAR
VERSION:2.0
PRODID:-//StreamRadar//Match Calendar//EN
CALSCALE:GREGORIAN
METHOD:PUBLISH
X-WR-CALNAME:Arda vs Cherno More
X-WR-TIMEZONE:America/New_York
BEGIN:VEVENT
UID:match-5616797@streamradar.soccer
SUMMARY:Arda vs Cherno More
DTSTAMP:20260419T121312Z
DTSTART;TZID=America/New_York:20260502T110000
DTEND;TZID=America/New_York:20260502T130000
LOCATION:Arena Arda
DESCRIPTION:Dónde ver Arda vs Cherno More en Bulgaria - Parva Liga. Transm
 isión en vivo y programación de TV.\nhttps://streamradar.soccer/es/match/
 5616797/arda-vs-cherno-more/
URL;VALUE=URI:https://streamradar.soccer/es/match/5616797/arda-vs-cherno-mo
 re/
STATUS:CONFIRMED
END:VEVENT
END:VCALENDAR
