BEGIN:VCALENDAR
VERSION:2.0
PRODID:-//StreamRadar//Match Calendar//EN
CALSCALE:GREGORIAN
METHOD:PUBLISH
X-WR-CALNAME:Spartak Moskva II vs Yenisey II
X-WR-TIMEZONE:America/New_York
BEGIN:VEVENT
UID:match-5616271@streamradar.soccer
SUMMARY:Spartak Moskva II vs Yenisey II
DTSTAMP:20260421T080840Z
DTSTART;TZID=America/New_York:20260517T090000
DTEND;TZID=America/New_York:20260517T110000
DESCRIPTION:Dónde ver Spartak Moskva II vs Yenisey II en Rusia - FNL 2. Tr
 ansmisión en vivo y programación de TV.\nhttps://streamradar.soccer/es/ma
 tch/5616271/spartak-moskva-ii-vs-yenisey-ii/
URL;VALUE=URI:https://streamradar.soccer/es/match/5616271/spartak-moskva-ii
 -vs-yenisey-ii/
STATUS:CONFIRMED
END:VEVENT
END:VCALENDAR
