BEGIN:VCALENDAR
VERSION:2.0
PRODID:-//StreamRadar//Match Calendar//EN
CALSCALE:GREGORIAN
METHOD:PUBLISH
X-WR-CALNAME:Wake vs Tobacco Road
X-WR-TIMEZONE:America/New_York
BEGIN:VEVENT
UID:match-5616238@streamradar.soccer
SUMMARY:Wake vs Tobacco Road
DTSTAMP:20260421T092256Z
DTSTART;TZID=America/New_York:20260517T190000
DTEND;TZID=America/New_York:20260517T210000
DESCRIPTION:Dónde ver Wake vs Tobacco Road en USL League Two. Transmisión
  en vivo y programación de TV.\nhttps://streamradar.soccer/es/match/561623
 8/wake-vs-tobacco-road/
URL;VALUE=URI:https://streamradar.soccer/es/match/5616238/wake-vs-tobacco-r
 oad/
STATUS:CONFIRMED
END:VEVENT
END:VCALENDAR
