BEGIN:VCALENDAR
VERSION:2.0
PRODID:-//StreamRadar//Match Calendar//EN
CALSCALE:GREGORIAN
METHOD:PUBLISH
X-WR-CALNAME:Sunflower State vs St. Louis Ambush
X-WR-TIMEZONE:America/New_York
BEGIN:VEVENT
UID:match-5616230@streamradar.soccer
SUMMARY:Sunflower State vs St. Louis Ambush
DTSTAMP:20260421T080815Z
DTSTART;TZID=America/New_York:20260516T200000
DTEND;TZID=America/New_York:20260516T220000
DESCRIPTION:Dónde ver Sunflower State vs St. Louis Ambush en USL League Tw
 o. Transmisión en vivo y programación de TV.\nhttps://streamradar.soccer/
 es/match/5616230/sunflower-state-vs-st-louis-ambush/
URL;VALUE=URI:https://streamradar.soccer/es/match/5616230/sunflower-state-v
 s-st-louis-ambush/
STATUS:CONFIRMED
END:VEVENT
END:VCALENDAR
