BEGIN:VCALENDAR
VERSION:2.0
PRODID:-//StreamRadar//Match Calendar//EN
CALSCALE:GREGORIAN
METHOD:PUBLISH
X-WR-CALNAME:Slovan Sabinov vs Kežmarok
X-WR-TIMEZONE:America/New_York
BEGIN:VEVENT
UID:match-5616206@streamradar.soccer
SUMMARY:Slovan Sabinov vs Kežmarok
DTSTAMP:20260421T080818Z
DTSTART;TZID=America/New_York:20260517T110000
DTEND;TZID=America/New_York:20260517T130000
DESCRIPTION:Dónde ver Slovan Sabinov vs Kežmarok en Eslovaquia - 3. Liga 
 de Fútbol (en Eslovaquia). Transmisión en vivo y programación de TV.\nht
 tps://streamradar.soccer/es/match/5616206/slovan-sabinov-vs-kezmarok/
URL;VALUE=URI:https://streamradar.soccer/es/match/5616206/slovan-sabinov-vs
 -kezmarok/
STATUS:CONFIRMED
END:VEVENT
END:VCALENDAR
