BEGIN:VCALENDAR
VERSION:2.0
PRODID:-//StreamRadar//Match Calendar//EN
CALSCALE:GREGORIAN
METHOD:PUBLISH
X-WR-CALNAME:Istaravshan vs Regar-TadAZ
X-WR-TIMEZONE:America/New_York
BEGIN:VEVENT
UID:match-5616201@streamradar.soccer
SUMMARY:Istaravshan vs Regar-TadAZ
DTSTAMP:20260421T080709Z
DTSTART;TZID=America/New_York:20260517T090000
DTEND;TZID=America/New_York:20260517T110000
DESCRIPTION:Dónde ver Istaravshan vs Regar-TadAZ en Tayikistán - Tajik Le
 ague. Transmisión en vivo y programación de TV.\nhttps://streamradar.socc
 er/es/match/5616201/istaravshan-vs-regar-tadaz/
URL;VALUE=URI:https://streamradar.soccer/es/match/5616201/istaravshan-vs-re
 gar-tadaz/
STATUS:CONFIRMED
END:VEVENT
END:VCALENDAR
