BEGIN:VCALENDAR
VERSION:2.0
PRODID:-//StreamRadar//Match Calendar//EN
CALSCALE:GREGORIAN
METHOD:PUBLISH
X-WR-CALNAME:Al Shabab vs Al-Rustaq
X-WR-TIMEZONE:America/New_York
BEGIN:VEVENT
UID:match-5616187@streamradar.soccer
SUMMARY:Al Shabab vs Al-Rustaq
DTSTAMP:20260421T114500Z
DTSTART;TZID=America/New_York:20260504T122000
DTEND;TZID=America/New_York:20260504T142000
DESCRIPTION:Dónde ver Al Shabab vs Al-Rustaq en Omani League. Transmisión
  en vivo y programación de TV.\nhttps://streamradar.soccer/es/match/561618
 7/al-shabab-vs-al-rustaq/
URL;VALUE=URI:https://streamradar.soccer/es/match/5616187/al-shabab-vs-al-r
 ustaq/
STATUS:CONFIRMED
END:VEVENT
END:VCALENDAR
