BEGIN:VCALENDAR
VERSION:2.0
PRODID:-//StreamRadar//Match Calendar//EN
CALSCALE:GREGORIAN
METHOD:PUBLISH
X-WR-CALNAME:Bodden Town vs Sunset
X-WR-TIMEZONE:America/New_York
BEGIN:VEVENT
UID:match-5616095@streamradar.soccer
SUMMARY:Bodden Town vs Sunset
DTSTAMP:20260421T093000Z
DTSTART;TZID=America/New_York:20260419T200000
DTEND;TZID=America/New_York:20260419T220000
LOCATION:T.E. McField Sports Centre (George Town)
DESCRIPTION:Dónde ver Bodden Town vs Sunset en Islas Caimán - Cayman Isla
 nds Premier League. Transmisión en vivo y programación de TV.\nhttps://st
 reamradar.soccer/es/match/5616095/bodden-town-vs-sunset/
URL;VALUE=URI:https://streamradar.soccer/es/match/5616095/bodden-town-vs-su
 nset/
STATUS:CONFIRMED
END:VEVENT
END:VCALENDAR
