BEGIN:VCALENDAR
VERSION:2.0
PRODID:-//StreamRadar//Match Calendar//EN
CALSCALE:GREGORIAN
METHOD:PUBLISH
X-WR-CALNAME:Scholars International vs Cayman Brac
X-WR-TIMEZONE:America/New_York
BEGIN:VEVENT
UID:match-5616092@streamradar.soccer
SUMMARY:Scholars International vs Cayman Brac
DTSTAMP:20260421T092356Z
DTSTART;TZID=America/New_York:20260419T150000
DTEND;TZID=America/New_York:20260419T170000
LOCATION:T.E. McField Sports Centre (George Town)
DESCRIPTION:DÃ³nde ver Scholars International vs Cayman Brac en Islas CaimÃ
 ¡n - Cayman Islands Premier League. TransmisiÃ³n en vivo y programaciÃ³n de
  TV.\nhttps://streamradar.soccer/es/match/5616092/scholars-international-vs
 -cayman-brac/
URL;VALUE=URI:https://streamradar.soccer/es/match/5616092/scholars-internat
 ional-vs-cayman-brac/
STATUS:CONFIRMED
END:VEVENT
END:VCALENDAR
