BEGIN:VCALENDAR
VERSION:2.0
PRODID:-//StreamRadar//Match Calendar//EN
CALSCALE:GREGORIAN
METHOD:PUBLISH
X-WR-CALNAME:CSM Sacele vs Pucioasa
X-WR-TIMEZONE:America/New_York
BEGIN:VEVENT
UID:match-5615547@streamradar.soccer
SUMMARY:CSM Sacele vs Pucioasa
DTSTAMP:20260421T093634Z
DTSTART;TZID=America/New_York:20260516T110000
DTEND;TZID=America/New_York:20260516T130000
DESCRIPTION:Dónde ver CSM Sacele vs Pucioasa en Rumania - Liga III. Transm
 isión en vivo y programación de TV.\nhttps://streamradar.soccer/es/match/
 5615547/csm-sacele-vs-pucioasa/
URL;VALUE=URI:https://streamradar.soccer/es/match/5615547/csm-sacele-vs-puc
 ioasa/
STATUS:CONFIRMED
END:VEVENT
END:VCALENDAR
