BEGIN:VCALENDAR
VERSION:2.0
PRODID:-//StreamRadar//Match Calendar//EN
CALSCALE:GREGORIAN
METHOD:PUBLISH
X-WR-CALNAME:Borac Čačak vs Dinamo Jug
X-WR-TIMEZONE:America/New_York
BEGIN:VEVENT
UID:match-5615464@streamradar.soccer
SUMMARY:Borac Čačak vs Dinamo Jug
DTSTAMP:20260421T092138Z
DTSTART;TZID=America/New_York:20260516T110000
DTEND;TZID=America/New_York:20260516T130000
LOCATION:Gradski stadion
DESCRIPTION:Dónde ver Borac Čačak vs Dinamo Jug en Serbia - Prva Liga. T
 ransmisión en vivo y programación de TV.\nhttps://streamradar.soccer/es/m
 atch/5615464/borac-cacak-vs-dinamo-jug/
URL;VALUE=URI:https://streamradar.soccer/es/match/5615464/borac-cacak-vs-di
 namo-jug/
STATUS:CONFIRMED
END:VEVENT
END:VCALENDAR
