BEGIN:VCALENDAR
VERSION:2.0
PRODID:-//StreamRadar//Match Calendar//EN
CALSCALE:GREGORIAN
METHOD:PUBLISH
X-WR-CALNAME:Diarra vs Derby Academie
X-WR-TIMEZONE:America/New_York
BEGIN:VEVENT
UID:match-5615446@streamradar.soccer
SUMMARY:Diarra vs Derby Academie
DTSTAMP:20260421T063141Z
DTSTART;TZID=America/New_York:20260502T143000
DTEND;TZID=America/New_York:20260502T163000
DESCRIPTION:Dónde ver Diarra vs Derby Academie en Malí - Première Divisi
 on. Transmisión en vivo y programación de TV.\nhttps://streamradar.soccer
 /es/match/5615446/diarra-vs-derby-academie/
URL;VALUE=URI:https://streamradar.soccer/es/match/5615446/diarra-vs-derby-a
 cademie/
STATUS:CONFIRMED
END:VEVENT
END:VCALENDAR
