BEGIN:VCALENDAR
VERSION:2.0
PRODID:-//StreamRadar//Match Calendar//EN
CALSCALE:GREGORIAN
METHOD:PUBLISH
X-WR-CALNAME:UberlÃ¢ndia vs Betim
X-WR-TIMEZONE:America/New_York
BEGIN:VEVENT
UID:match-5615428@streamradar.soccer
SUMMARY:UberlÃ¢ndia vs Betim
DTSTAMP:20260421T141731Z
DTSTART;TZID=America/New_York:20260516T160000
DTEND;TZID=America/New_York:20260516T180000
DESCRIPTION:DÃ³nde ver UberlÃ¢ndia vs Betim en Brasil - Serie D. TransmisiÃ
 ³n en vivo y programaciÃ³n de TV.\nhttps://streamradar.soccer/es/match/5615
 428/uberlandia-vs-betim/
URL;VALUE=URI:https://streamradar.soccer/es/match/5615428/uberlandia-vs-bet
 im/
STATUS:CONFIRMED
END:VEVENT
END:VCALENDAR
