BEGIN:VCALENDAR
VERSION:2.0
PRODID:-//StreamRadar//Match Calendar//EN
CALSCALE:GREGORIAN
METHOD:PUBLISH
X-WR-CALNAME:Sampaio Corrêa vs Parnahyba
X-WR-TIMEZONE:America/New_York
BEGIN:VEVENT
UID:match-5615417@streamradar.soccer
SUMMARY:Sampaio Corrêa vs Parnahyba
DTSTAMP:20260421T092442Z
DTSTART;TZID=America/New_York:20260516T160000
DTEND;TZID=America/New_York:20260516T180000
DESCRIPTION:Dónde ver Sampaio Corrêa vs Parnahyba en Brasil - Serie D. Tr
 ansmisión en vivo y programación de TV.\nhttps://streamradar.soccer/es/ma
 tch/5615417/sampaio-correa-vs-parnahyba/
URL;VALUE=URI:https://streamradar.soccer/es/match/5615417/sampaio-correa-vs
 -parnahyba/
STATUS:CONFIRMED
END:VEVENT
END:VCALENDAR
