BEGIN:VCALENDAR
VERSION:2.0
PRODID:-//StreamRadar//Match Calendar//EN
CALSCALE:GREGORIAN
METHOD:PUBLISH
X-WR-CALNAME:Portuguesa vs Água Santa
X-WR-TIMEZONE:America/New_York
BEGIN:VEVENT
UID:match-5615412@streamradar.soccer
SUMMARY:Portuguesa vs Água Santa
DTSTAMP:20260421T092514Z
DTSTART;TZID=America/New_York:20260516T160000
DTEND;TZID=America/New_York:20260516T180000
LOCATION:Estadio do Caninde
DESCRIPTION:Dónde ver Portuguesa vs Água Santa en Brasil - Serie D. Trans
 misión en vivo y programación de TV.\nhttps://streamradar.soccer/es/match
 /5615412/portuguesa-vs-agua-santa/
URL;VALUE=URI:https://streamradar.soccer/es/match/5615412/portuguesa-vs-agu
 a-santa/
STATUS:CONFIRMED
END:VEVENT
END:VCALENDAR
