BEGIN:VCALENDAR
VERSION:2.0
PRODID:-//StreamRadar//Match Calendar//EN
CALSCALE:GREGORIAN
METHOD:PUBLISH
X-WR-CALNAME:GAS vs Monte Roraima
X-WR-TIMEZONE:America/New_York
BEGIN:VEVENT
UID:match-5615397@streamradar.soccer
SUMMARY:GAS vs Monte Roraima
DTSTAMP:20260421T091931Z
DTSTART;TZID=America/New_York:20260516T160000
DTEND;TZID=America/New_York:20260516T180000
DESCRIPTION:DÃ³nde ver GAS vs Monte Roraima en Brasil - Serie D. TransmisiÃ
 ³n en vivo y programaciÃ³n de TV.\nhttps://streamradar.soccer/es/match/5615
 397/gas-vs-monte-roraima/
URL;VALUE=URI:https://streamradar.soccer/es/match/5615397/gas-vs-monte-rora
 ima/
STATUS:CONFIRMED
END:VEVENT
END:VCALENDAR
