BEGIN:VCALENDAR
VERSION:2.0
PRODID:-//StreamRadar//Match Calendar//EN
CALSCALE:GREGORIAN
METHOD:PUBLISH
X-WR-CALNAME:Žilina vs FK Košice
X-WR-TIMEZONE:America/New_York
BEGIN:VEVENT
UID:match-5615363@streamradar.soccer
SUMMARY:Žilina vs FK Košice
DTSTAMP:20260421T104505Z
DTSTART;TZID=America/New_York:20260501T100000
DTEND;TZID=America/New_York:20260501T120000
DESCRIPTION:Dónde ver Žilina vs FK Košice en Copa de Eslovaquia. Transmi
 sión en vivo y programación de TV.\nhttps://streamradar.soccer/es/match/5
 615363/zilina-vs-fk-kosice/
URL;VALUE=URI:https://streamradar.soccer/es/match/5615363/zilina-vs-fk-kosi
 ce/
STATUS:CONFIRMED
END:VEVENT
END:VCALENDAR
