BEGIN:VCALENDAR
VERSION:2.0
PRODID:-//StreamRadar//Match Calendar//EN
CALSCALE:GREGORIAN
METHOD:PUBLISH
X-WR-CALNAME:Hafia vs RCC Kamsar
X-WR-TIMEZONE:America/New_York
BEGIN:VEVENT
UID:match-5614803@streamradar.soccer
SUMMARY:Hafia vs RCC Kamsar
DTSTAMP:20260421T093629Z
DTSTART;TZID=America/New_York:20260417T120000
DTEND;TZID=America/New_York:20260417T140000
LOCATION:Stade Petit Sory (Conakry)
DESCRIPTION:Dónde ver Hafia vs RCC Kamsar en Guinea - Ligue 1. Transmisió
 n en vivo y programación de TV.\nhttps://streamradar.soccer/es/match/56148
 03/hafia-vs-rcc-kamsar/
URL;VALUE=URI:https://streamradar.soccer/es/match/5614803/hafia-vs-rcc-kams
 ar/
STATUS:CONFIRMED
END:VEVENT
END:VCALENDAR
