BEGIN:VCALENDAR
VERSION:2.0
PRODID:-//StreamRadar//Match Calendar//EN
CALSCALE:GREGORIAN
METHOD:PUBLISH
X-WR-CALNAME:USV Iasi vs FC Bacau 2
X-WR-TIMEZONE:America/New_York
BEGIN:VEVENT
UID:match-5614783@streamradar.soccer
SUMMARY:USV Iasi vs FC Bacau 2
DTSTAMP:20260421T085451Z
DTSTART;TZID=America/New_York:20260515T110000
DTEND;TZID=America/New_York:20260515T130000
DESCRIPTION:Dónde ver USV Iasi vs FC Bacau 2 en Rumania - Liga III. Transm
 isión en vivo y programación de TV.\nhttps://streamradar.soccer/es/match/
 5614783/usv-iasi-vs-fc-bacau-2/
URL;VALUE=URI:https://streamradar.soccer/es/match/5614783/usv-iasi-vs-fc-ba
 cau-2/
STATUS:CONFIRMED
END:VEVENT
END:VCALENDAR
