BEGIN:VCALENDAR
VERSION:2.0
PRODID:-//StreamRadar//Match Calendar//EN
CALSCALE:GREGORIAN
METHOD:PUBLISH
X-WR-CALNAME:Quepos Cambute vs Uruguay
X-WR-TIMEZONE:America/New_York
BEGIN:VEVENT
UID:match-5614741@streamradar.soccer
SUMMARY:Quepos Cambute vs Uruguay
DTSTAMP:20260421T055652Z
DTSTART;TZID=America/New_York:20260426T160000
DTEND;TZID=America/New_York:20260426T180000
LOCATION:Finca Damas ()
DESCRIPTION:Dónde ver Quepos Cambute vs Uruguay en Costa Rica - Liga de As
 censo. Transmisión en vivo y programación de TV.\nhttps://streamradar.soc
 cer/es/match/5614741/quepos-cambute-vs-uruguay/
URL;VALUE=URI:https://streamradar.soccer/es/match/5614741/quepos-cambute-vs
 -uruguay/
STATUS:CONFIRMED
END:VEVENT
END:VCALENDAR
