BEGIN:VCALENDAR
VERSION:2.0
PRODID:-//StreamRadar//Match Calendar//EN
CALSCALE:GREGORIAN
METHOD:PUBLISH
X-WR-CALNAME:Polokwane City U23 vs Mamelodi Sundowns U23
X-WR-TIMEZONE:America/New_York
BEGIN:VEVENT
UID:match-5614683@streamradar.soccer
SUMMARY:Polokwane City U23 vs Mamelodi Sundowns U23
DTSTAMP:20260421T080829Z
DTSTART;TZID=America/New_York:20260421T040000
DTEND;TZID=America/New_York:20260421T060000
DESCRIPTION:Dónde ver Polokwane City Sub-23 vs Mamelodi Sundowns Sub-23 en
  Multichoice Diski Challenge. Transmisión en vivo y programación de TV.\n
 https://streamradar.soccer/es/match/5614683/polokwane-city-u23-vs-mamelodi-
 sundowns-u23/
URL;VALUE=URI:https://streamradar.soccer/es/match/5614683/polokwane-city-u2
 3-vs-mamelodi-sundowns-u23/
STATUS:CONFIRMED
END:VEVENT
END:VCALENDAR
