BEGIN:VCALENDAR
VERSION:2.0
PRODID:-//StreamRadar//Match Calendar//EN
CALSCALE:GREGORIAN
METHOD:PUBLISH
X-WR-CALNAME:Wolfsburg vs Bayern
X-WR-TIMEZONE:America/New_York
BEGIN:VEVENT
UID:match-5614679@streamradar.soccer
SUMMARY:Wolfsburg vs Bayern
DTSTAMP:20260421T103951Z
DTSTART;TZID=America/New_York:20260514T100000
DTEND;TZID=America/New_York:20260514T120000
LOCATION:AOK Stadion
DESCRIPTION:DÃ³nde ver Wolfsburg vs Bayern en Copa DFB Femenina. TransmisiÃ
 ³n en vivo y programaciÃ³n de TV.\nhttps://streamradar.soccer/es/match/5614
 679/wolfsburg-vs-bayern/
URL;VALUE=URI:https://streamradar.soccer/es/match/5614679/wolfsburg-vs-baye
 rn/
STATUS:CONFIRMED
END:VEVENT
END:VCALENDAR
