BEGIN:VCALENDAR
VERSION:2.0
PRODID:-//StreamRadar//Match Calendar//EN
CALSCALE:GREGORIAN
METHOD:PUBLISH
X-WR-CALNAME:Malisheva vs Ballkani
X-WR-TIMEZONE:America/New_York
BEGIN:VEVENT
UID:match-5614659@streamradar.soccer
SUMMARY:Malisheva vs Ballkani
DTSTAMP:20260421T104218Z
DTSTART;TZID=America/New_York:20260419T090000
DTEND;TZID=America/New_York:20260419T110000
LOCATION:Stadiumi Liman Gegaj (Malishevë)
DESCRIPTION:Dónde ver Malisheva vs Ballkani en Kosovo - Superliga en Kosov
 o. Transmisión en vivo y programación de TV.\nhttps://streamradar.soccer/
 es/match/5614659/malisheva-vs-ballkani/
URL;VALUE=URI:https://streamradar.soccer/es/match/5614659/malisheva-vs-ball
 kani/
STATUS:CONFIRMED
END:VEVENT
END:VCALENDAR
