BEGIN:VCALENDAR
VERSION:2.0
PRODID:-//StreamRadar//Match Calendar//EN
CALSCALE:GREGORIAN
METHOD:PUBLISH
X-WR-CALNAME:Ferizaj vs Prishtina e Re
X-WR-TIMEZONE:America/New_York
BEGIN:VEVENT
UID:match-5614655@streamradar.soccer
SUMMARY:Ferizaj vs Prishtina e Re
DTSTAMP:20260421T093021Z
DTSTART;TZID=America/New_York:20260418T090000
DTEND;TZID=America/New_York:20260418T110000
LOCATION:Stadiumi me bar sintetik Ferizaj (Ferizaj (Uroševac))
DESCRIPTION:Dónde ver Ferizaj vs Prishtina E Re en Kosovo - Superliga en K
 osovo. Transmisión en vivo y programación de TV.\nhttps://streamradar.soc
 cer/es/match/5614655/ferizaj-vs-prishtina-e-re/
URL;VALUE=URI:https://streamradar.soccer/es/match/5614655/ferizaj-vs-prisht
 ina-e-re/
STATUS:CONFIRMED
END:VEVENT
END:VCALENDAR
