BEGIN:VCALENDAR
VERSION:2.0
PRODID:-//StreamRadar//Match Calendar//EN
CALSCALE:GREGORIAN
METHOD:PUBLISH
X-WR-CALNAME:Real Estelí vs Matagalpa
X-WR-TIMEZONE:America/New_York
BEGIN:VEVENT
UID:match-5614637@streamradar.soccer
SUMMARY:Real Estelí vs Matagalpa
DTSTAMP:20260421T054856Z
DTSTART;TZID=America/New_York:20260425T160000
DTEND;TZID=America/New_York:20260425T180000
LOCATION:Estadio Independencia
DESCRIPTION:Dónde ver Real Estelí vs Matagalpa en Nicaragua - Liga Primer
 a de Nicaragua. Transmisión en vivo y programación de TV.\nhttps://stream
 radar.soccer/es/match/5614637/real-esteli-vs-matagalpa/
URL;VALUE=URI:https://streamradar.soccer/es/match/5614637/real-esteli-vs-ma
 tagalpa/
STATUS:CONFIRMED
END:VEVENT
END:VCALENDAR
